BEGIN:VCALENDAR
PRODID:NingEventWidget-v1
VERSION:2.0
METHOD:PUBLISH
BEGIN:VTIMEZONE
TZID:Europe/Madrid
X-LIC-LOCATION:Europe/Madrid
BEGIN:DAYLIGHT
TZOFFSETFROM:+0100
TZOFFSETTO:+0200
TZNAME:CEST
DTSTART:19700329T020000
RRULE:FREQ=YEARLY;BYMONTH=3;BYDAY=-1SU
END:DAYLIGHT
BEGIN:STANDARD
TZOFFSETFROM:+0200
TZOFFSETTO:+0100
TZNAME:CET
DTSTART:19701025T030000
RRULE:FREQ=YEARLY;BYMONTH=10;BYDAY=-1SU
END:STANDARD
END:VTIMEZONE
BEGIN:VEVENT
UID:4249087:Event:197054
DTSTAMP:20260423T043528Z
SUMMARY:Astrología Empresarial en Miami
DESCRIPTION:Astrología Empresarial. Módulo 1. Astrología Eleccional
 .\nEl Arte de Elegir. Se trata de aprender a diseñar la Carta Natal d
 e tu evento de importancia: Abrir una empresa, iniciar una campaña de
  publicidad, abrir una nueva sucursal, compra/venta de bien inmueble, 
 programar cirugía, matrimonio, viaje, compra venta automovil, y en ge
 neral cualquier evento que nos interese que salga bien. Hay que conoce
 r las regencias de casas signos y planetas y unas sencillas reglas.\n\
 nPara más información visita https://astrologica.ning.com/events/ast
 rolog-a-empresarial-en-miami
DTSTART;TZID=Europe/Madrid:20180519T090000
DTEND;TZID=Europe/Madrid:20180520T150000
CATEGORIES:taller, de, fin, semana
LOCATION:Doral, Fl
WEBSITE:https://www.google.com.mx/maps/place/Flicah/@25.810917,-80.328
 848,15z/data=!4m2!3m1!1s0x0:0xfeb63a43d1b84816?sa=X&amp;ved=2ahUKEwjk2
 9Kj4_jaAhXMtlMKHS5VBeMQ_BIwD3oECAAQcw
URL:https://www.google.com.mx/maps/place/Flicah/@25.810917,-80.328848,
 15z/data=!4m2!3m1!1s0x0:0xfeb63a43d1b84816?sa=X&amp;ved=2ahUKEwjk29Kj4
 _jaAhXMtlMKHS5VBeMQ_BIwD3oECAAQcw
CONTACT:1 305-646-1615
ORGANIZER;CN="Luis Michel Fox Elizondo":https://astrologica.ning.com/p
 rofile/LuisMichelFoxElizondo
ATTACH;FMTTYPE="image/jpeg":
ATTENDEE;ROLE=REQ-PARTICIPANT;PARTSTAT=ACCEPTED;RSVP=TRUE;CN="Luis Mic
 hel Fox Elizondo":https://astrologica.ning.com/profile/LuisMichelFoxEl
 izondo
END:VEVENT
END:VCALENDAR
